BEGIN:VCALENDAR
VERSION:2.0
PRODID:-//The Music Company - ECPv6.15.20//NONSGML v1.0//EN
CALSCALE:GREGORIAN
METHOD:PUBLISH
X-WR-CALNAME:The Music Company
X-ORIGINAL-URL:https://tmcmusic.org
X-WR-CALDESC:Events for The Music Company
REFRESH-INTERVAL;VALUE=DURATION:PT1H
X-Robots-Tag:noindex
X-PUBLISHED-TTL:PT1H
BEGIN:VTIMEZONE
TZID:America/Los_Angeles
BEGIN:DAYLIGHT
TZOFFSETFROM:-0800
TZOFFSETTO:-0700
TZNAME:PDT
DTSTART:20250309T100000
END:DAYLIGHT
BEGIN:STANDARD
TZOFFSETFROM:-0700
TZOFFSETTO:-0800
TZNAME:PST
DTSTART:20251102T090000
END:STANDARD
BEGIN:DAYLIGHT
TZOFFSETFROM:-0800
TZOFFSETTO:-0700
TZNAME:PDT
DTSTART:20260308T100000
END:DAYLIGHT
BEGIN:STANDARD
TZOFFSETFROM:-0700
TZOFFSETTO:-0800
TZNAME:PST
DTSTART:20261101T090000
END:STANDARD
BEGIN:DAYLIGHT
TZOFFSETFROM:-0800
TZOFFSETTO:-0700
TZNAME:PDT
DTSTART:20270314T100000
END:DAYLIGHT
BEGIN:STANDARD
TZOFFSETFROM:-0700
TZOFFSETTO:-0800
TZNAME:PST
DTSTART:20271107T090000
END:STANDARD
END:VTIMEZONE
BEGIN:VEVENT
DTSTART;TZID=America/Los_Angeles:20260604T193000
DTEND;TZID=America/Los_Angeles:20260604T213000
DTSTAMP:20260423T102854
CREATED:20260122T134606Z
LAST-MODIFIED:20260122T134607Z
UID:10000691-1780601400-1780608600@tmcmusic.org
SUMMARY:Musicians Club Jam Session
DESCRIPTION:Come join the San Diego Musician’s Club for their monthly Jam Session\, hosted at TMC from 7-9 pm. To learn more and RSVP to attend\, please visit the Musician’s Club website . \nTMC has acoustic and electric guitars\, bass guitars\, a drum kit\, keyboards\, a piano\, congas\, a host of handheld percussion instruments\, and backline gear (amplifiers\, microphones\, etc.) to work with – or feel free to bring your own! \n 
URL:https://tmcmusic.org/event/musicians-club-jam-session-2-2/2026-06-04/
LOCATION:The Music Company\, 4150 Mission Blvd\, Suite 210\, San Diego\, CA\, 92109\, United States
CATEGORIES:Musician's Club Jam Session
ORGANIZER;CN="San Diego Musician's Club":MAILTO:musiciansclub.sandiego@gmail.com
END:VEVENT
END:VCALENDAR