BEGIN:VCALENDAR
VERSION:2.0
PRODID:-//The Music Company - ECPv6.15.20//NONSGML v1.0//EN
CALSCALE:GREGORIAN
METHOD:PUBLISH
X-ORIGINAL-URL:https://tmcmusic.org
X-WR-CALDESC:Events for The Music Company
REFRESH-INTERVAL;VALUE=DURATION:PT1H
X-Robots-Tag:noindex
X-PUBLISHED-TTL:PT1H
BEGIN:VTIMEZONE
TZID:America/Los_Angeles
BEGIN:DAYLIGHT
TZOFFSETFROM:-0800
TZOFFSETTO:-0700
TZNAME:PDT
DTSTART:20230312T100000
END:DAYLIGHT
BEGIN:STANDARD
TZOFFSETFROM:-0700
TZOFFSETTO:-0800
TZNAME:PST
DTSTART:20231105T090000
END:STANDARD
BEGIN:DAYLIGHT
TZOFFSETFROM:-0800
TZOFFSETTO:-0700
TZNAME:PDT
DTSTART:20240310T100000
END:DAYLIGHT
BEGIN:STANDARD
TZOFFSETFROM:-0700
TZOFFSETTO:-0800
TZNAME:PST
DTSTART:20241103T090000
END:STANDARD
BEGIN:DAYLIGHT
TZOFFSETFROM:-0800
TZOFFSETTO:-0700
TZNAME:PDT
DTSTART:20250309T100000
END:DAYLIGHT
BEGIN:STANDARD
TZOFFSETFROM:-0700
TZOFFSETTO:-0800
TZNAME:PST
DTSTART:20251102T090000
END:STANDARD
BEGIN:DAYLIGHT
TZOFFSETFROM:-0800
TZOFFSETTO:-0700
TZNAME:PDT
DTSTART:20260308T100000
END:DAYLIGHT
BEGIN:STANDARD
TZOFFSETFROM:-0700
TZOFFSETTO:-0800
TZNAME:PST
DTSTART:20261101T090000
END:STANDARD
END:VTIMEZONE
BEGIN:VEVENT
DTSTART;TZID=America/Los_Angeles:20250315T190000
DTEND;TZID=America/Los_Angeles:20250315T220000
DTSTAMP:20260423T103343
CREATED:20241217T042212Z
LAST-MODIFIED:20241231T193040Z
UID:10000394-1742065200-1742076000@tmcmusic.org
SUMMARY:Music Matters Benefit Concert
DESCRIPTION:Don’t Miss Out on the 1st Annual Music Matters Concert! \nJoin us for an inspiring evening featuring three talented local artists\, a silent auction\, and an opportunity to make a real difference in San Diego’s music community. This isn’t just a concert—it’s your chance to help sustain and grow the music that makes our city so vibrant and unique. \nEvery ticket\, every auction bid\, every cheer supports The Music Company’s mission to uplift local artists\, provide affordable studio space\, and keep the heart of San Diego’s music alive. \nTogether\, let’s Turn Up The Volume on San Diego Music! \nVisit musicmatters.tmcmusic.org for more information!
URL:https://tmcmusic.org/event/music-matters-benefit-concert/
LOCATION:The Barrel Room at AleSmith\, 9990 AleSmith Court\, San Diego\, CA\, 92126\, United States
CATEGORIES:Special Events
ATTACH;FMTTYPE=image/webp:https://tmcmusic.org/wp-content/uploads/2019/06/musicmatters-web.webp
END:VEVENT
BEGIN:VEVENT
DTSTART;TZID=America/Los_Angeles:20241128T120000
DTEND;TZID=America/Los_Angeles:20241128T220000
DTSTAMP:20260423T103343
CREATED:20241124T171959Z
LAST-MODIFIED:20241124T173146Z
UID:10000040-1732795200-1732831200@tmcmusic.org
SUMMARY:Studio Closed for Thanksgiving Holiday
DESCRIPTION:We would like to express our thanks and gratitude to everyone who has supported TMC and the San Diego music scene in 2024.
URL:https://tmcmusic.org/event/thursday-jam-sessions-12/
LOCATION:The Music Company\, 4150 Mission Blvd\, Suite 210\, San Diego\, CA\, 92109\, United States
CATEGORIES:Jam Sessions,Special Events,Women's Night,Workshops
END:VEVENT
BEGIN:VEVENT
DTSTART;TZID=America/Los_Angeles:20241120T190000
DTEND;TZID=America/Los_Angeles:20241120T210000
DTSTAMP:20260423T103343
CREATED:20241023T031201Z
LAST-MODIFIED:20241109T183238Z
UID:10000338-1732129200-1732136400@tmcmusic.org
SUMMARY:Volunteer Open House
DESCRIPTION:Are you passionate about music? Do you want to make a difference in San Diego’s local music scene? The Music Company invites you to our Volunteer Open House\, where you’ll get an exclusive\, behind-the-scenes look at how we’re empowering local musicians and creatives. Whether you’re a long-time fan of the arts or new to the music community\, there’s a role for everyone. Learn how you can lend your time and talents to help make a lasting impact. \nAt this event you’ll: \n\nMeet our team and current volunteers\nDiscover volunteer opportunities in events\, outreach\, studio support\, and more\nGet a tour of our recording studios and music spaces\nLearn about the vital work TMC does to support local artists\nEnjoy light refreshments and network with other music enthusiasts\n\nHelp San Diego’s music community thrive – your involvement can make all the difference! \nRSVP today! Space is limited\, so be sure to secure your spot. \n\n[hubspot type=”form” portal=”23589391″ id=”a99fc6c9-41f4-4739-a506-94deb29250f5″]\n\n\n\nParking\nThe Promenade Plaza offers an underground lot accessible from Reed Ave on the north end of the plaza\, or Pacific Beach Drive on the south end. TMC offers 2 hours of free\, validated parking. We are unable to validate for the parking lot in front of our building; street parking is also an option.
URL:https://tmcmusic.org/event/volunteer-open-house/
LOCATION:CA
CATEGORIES:Special Events
ATTACH;FMTTYPE=image/jpeg:https://tmcmusic.org/wp-content/uploads/2024/10/volunteer-night-11-20-web.jpg
END:VEVENT
BEGIN:VEVENT
DTSTART;TZID=America/Los_Angeles:20240710T190000
DTEND;TZID=America/Los_Angeles:20240710T220000
DTSTAMP:20260423T103343
CREATED:20240704T035317Z
LAST-MODIFIED:20240704T181255Z
UID:10000318-1720638000-1720648800@tmcmusic.org
SUMMARY:The Gravities Release Party
DESCRIPTION:The Gravities “Find a Lil Time” Release Party: \nJoin us for an evening of music in celebration of the release of “Find a Lil Time”\, the new single from The Gravities! \nFeaturing live performances from: \n\nPrimo Dirty: Founder of the hope 4 homeless organization that helps provide food and clothing for those in need.\nMike Holmes : Amazing solo R&B/hip hop artist that provides a relatable range of music that always touches the soul.\nLindsey Alderman: A powerful female vocalist/artist with a confident stage presence.\n\nAnd of course\, The Gravities – one of our favorite soul-groove/ power funk collaborations with tunes that gets ya moving and keeps you grooving! \nDoors open at 7:00 p.m.\, see you there! \n\n[hubspot type=”form” portal=”23589391″ id=”99845204-9e54-454d-90fd-2affa399d8ab”]\n\n\n\nParking\nThe Promenade Plaza offers an underground lot accessible from Reed Ave on the north end of the plaza\, or Pacific Beach Drive on the south end. TMC offers 2 hours of free\, validated parking. We are unable to validate for the parking lot in front of our building; street parking is also an option.
URL:https://tmcmusic.org/event/gravities-release-party/
LOCATION:CA
CATEGORIES:Special Events
ATTACH;FMTTYPE=image/jpeg:https://tmcmusic.org/wp-content/uploads/2024/07/gravities-listening-party-popup-web.jpg
END:VEVENT
BEGIN:VEVENT
DTSTART;TZID=America/Los_Angeles:20240330T190000
DTEND;TZID=America/Los_Angeles:20240330T230000
DTSTAMP:20260423T103343
CREATED:20240324T001135Z
LAST-MODIFIED:20240330T212827Z
UID:10000153-1711825200-1711839600@tmcmusic.org
SUMMARY:1 Year Anniversary + SDMA Artist Spotlight
DESCRIPTION:Welcome to TMC’s 1 Year Anniversary Celebration!\nJoin us at The Music Company for a fun-filled celebration\, showcasing SDMA nominees. Come meet industry professionals\, network with fellow music enthusiasts\, and enjoy live performances by these San Diego Music Awards Nominees: \n\nRiston Diggs – Nominated for Best Hip/Hop or Rap Song\nChauncey Maynor – Nominated for Best R&B\, Funk\, or Soul Album\nThe Gravities – Nominated for Best Local recording for their Beach Break Session with TMC!\n\n\n[hubspot type=”form” portal=”23589391″ id=”40609986-2f1e-44b5-931c-71aa27e4e784″]\n\n\n\nParking  The Promenade Plaza offers an underground lot accessible from Reed Ave on the south end of the plaza\, or Pacific Beach Drive on the north end. TMC offers 2 hours of free\, validated parking. We are unable to validate for the parking lot in front of our building; street parking is also an option.
URL:https://tmcmusic.org/event/1-year-anniversary-sdma-artist-spotlight/
LOCATION:The Music Company\, 4150 Mission Blvd\, Suite 210\, San Diego\, CA\, 92109\, United States
CATEGORIES:Special Events
ATTACH;FMTTYPE=image/jpeg:https://tmcmusic.org/wp-content/uploads/2024/03/gravities-feature.jpg
END:VEVENT
END:VCALENDAR