BEGIN:VCALENDAR
VERSION:2.0
PRODID:-//The Music Company - ECPv6.15.20//NONSGML v1.0//EN
CALSCALE:GREGORIAN
METHOD:PUBLISH
X-ORIGINAL-URL:https://tmcmusic.org
X-WR-CALDESC:Events for The Music Company
REFRESH-INTERVAL;VALUE=DURATION:PT1H
X-Robots-Tag:noindex
X-PUBLISHED-TTL:PT1H
BEGIN:VTIMEZONE
TZID:America/Los_Angeles
BEGIN:DAYLIGHT
TZOFFSETFROM:-0800
TZOFFSETTO:-0700
TZNAME:PDT
DTSTART:20230312T100000
END:DAYLIGHT
BEGIN:STANDARD
TZOFFSETFROM:-0700
TZOFFSETTO:-0800
TZNAME:PST
DTSTART:20231105T090000
END:STANDARD
BEGIN:DAYLIGHT
TZOFFSETFROM:-0800
TZOFFSETTO:-0700
TZNAME:PDT
DTSTART:20240310T100000
END:DAYLIGHT
BEGIN:STANDARD
TZOFFSETFROM:-0700
TZOFFSETTO:-0800
TZNAME:PST
DTSTART:20241103T090000
END:STANDARD
BEGIN:DAYLIGHT
TZOFFSETFROM:-0800
TZOFFSETTO:-0700
TZNAME:PDT
DTSTART:20250309T100000
END:DAYLIGHT
BEGIN:STANDARD
TZOFFSETFROM:-0700
TZOFFSETTO:-0800
TZNAME:PST
DTSTART:20251102T090000
END:STANDARD
END:VTIMEZONE
BEGIN:VEVENT
DTSTART;TZID=America/Los_Angeles:20240629T120000
DTEND;TZID=America/Los_Angeles:20240629T140000
DTSTAMP:20260424T111835
CREATED:20240519T231027Z
LAST-MODIFIED:20240628T052010Z
UID:10000302-1719662400-1719669600@tmcmusic.org
SUMMARY:Build a Better Brain with Improv
DESCRIPTION:Come join Alec Johnson MT-BC\, NMT for a fun and interactive event where you can improve your brainpower through improv! Engage in creative exercises\, boost your cognitive skills\, and have a blast while doing it. No experience necessary – just come ready to laugh and learn. See you there! \nRegistration fee: $20 \n\n[hubspot type=”form” portal=”23589391″ id=”61d2d3c3-1a30-411f-8e71-c1cedfb79038″]\n\n\n\nParking\nThe Promenade Plaza offers an underground lot accessible from Reed Ave on the north end of the plaza\, or Pacific Beach Drive on the south end. TMC offers 2 hours of free\, validated parking. We are unable to validate for the parking lot in front of our building; street parking is also an option.
URL:https://tmcmusic.org/event/build-a-better-brain-with-improv/
LOCATION:The Music Company\, 4150 Mission Blvd\, Suite 210\, San Diego\, CA\, 92109\, United States
CATEGORIES:Workshops
ATTACH;FMTTYPE=image/jpeg:https://tmcmusic.org/wp-content/uploads/2024/05/brain-training-web-ongoing.jpg
END:VEVENT
END:VCALENDAR