BEGIN:VCALENDAR
VERSION:2.0
PRODID:-//The Music Company - ECPv6.15.20//NONSGML v1.0//EN
CALSCALE:GREGORIAN
METHOD:PUBLISH
X-ORIGINAL-URL:https://tmcmusic.org
X-WR-CALDESC:Events for The Music Company
REFRESH-INTERVAL;VALUE=DURATION:PT1H
X-Robots-Tag:noindex
X-PUBLISHED-TTL:PT1H
BEGIN:VTIMEZONE
TZID:America/Los_Angeles
BEGIN:DAYLIGHT
TZOFFSETFROM:-0800
TZOFFSETTO:-0700
TZNAME:PDT
DTSTART:20230312T100000
END:DAYLIGHT
BEGIN:STANDARD
TZOFFSETFROM:-0700
TZOFFSETTO:-0800
TZNAME:PST
DTSTART:20231105T090000
END:STANDARD
BEGIN:DAYLIGHT
TZOFFSETFROM:-0800
TZOFFSETTO:-0700
TZNAME:PDT
DTSTART:20240310T100000
END:DAYLIGHT
BEGIN:STANDARD
TZOFFSETFROM:-0700
TZOFFSETTO:-0800
TZNAME:PST
DTSTART:20241103T090000
END:STANDARD
BEGIN:DAYLIGHT
TZOFFSETFROM:-0800
TZOFFSETTO:-0700
TZNAME:PDT
DTSTART:20250309T100000
END:DAYLIGHT
BEGIN:STANDARD
TZOFFSETFROM:-0700
TZOFFSETTO:-0800
TZNAME:PST
DTSTART:20251102T090000
END:STANDARD
END:VTIMEZONE
BEGIN:VEVENT
DTSTART;TZID=America/Los_Angeles:20240928T120000
DTEND;TZID=America/Los_Angeles:20240928T140000
DTSTAMP:20260424T071245
CREATED:20240906T062242Z
LAST-MODIFIED:20240925T232017Z
UID:10000320-1727524800-1727532000@tmcmusic.org
SUMMARY:Songwriting Workshop
DESCRIPTION:Join other songwriters of all levels for a deconstruction of this classic 70’s hit\, with exercises and discussions! \n\nLearn and expand on knowledge of songwriting fundamentals: Form\, Theme\, Lyrical content\, Melody writing\, Theory of Harmony\, Production strategy and more!\nGain an understanding of the proprietary “Component Analysis” approach!\nWork on exercises and gain new tools for creativity and composition!\n\nFeaturing:\nDeconstruction of ABBA’s “Dancing Queen”. \nThe workshop will be led by Pat Pickslay\, President of Pacific Records\, Inc. \n\n[hubspot type=”form” portal=”23589391″ id=”182c8753-4cc8-4327-9545-7c13f853193f”]\n\nParking\nThe Promenade Plaza offers an underground lot accessible from Reed Ave on the north end of the plaza\, or Pacific Beach Drive on the south end. TMC offers 2 hours of free\, validated parking. We are unable to validate for the parking lot in front of our building; street parking is also an option.
URL:https://tmcmusic.org/event/songwriting-workshop-3/
LOCATION:CA
CATEGORIES:Workshops
END:VEVENT
END:VCALENDAR