BEGIN:VCALENDAR
VERSION:2.0
PRODID:-//The Music Company - ECPv6.15.20//NONSGML v1.0//EN
CALSCALE:GREGORIAN
METHOD:PUBLISH
X-ORIGINAL-URL:https://tmcmusic.org
X-WR-CALDESC:Events for The Music Company
REFRESH-INTERVAL;VALUE=DURATION:PT1H
X-Robots-Tag:noindex
X-PUBLISHED-TTL:PT1H
BEGIN:VTIMEZONE
TZID:America/Los_Angeles
BEGIN:DAYLIGHT
TZOFFSETFROM:-0800
TZOFFSETTO:-0700
TZNAME:PDT
DTSTART:20240310T100000
END:DAYLIGHT
BEGIN:STANDARD
TZOFFSETFROM:-0700
TZOFFSETTO:-0800
TZNAME:PST
DTSTART:20241103T090000
END:STANDARD
BEGIN:DAYLIGHT
TZOFFSETFROM:-0800
TZOFFSETTO:-0700
TZNAME:PDT
DTSTART:20250309T100000
END:DAYLIGHT
BEGIN:STANDARD
TZOFFSETFROM:-0700
TZOFFSETTO:-0800
TZNAME:PST
DTSTART:20251102T090000
END:STANDARD
BEGIN:DAYLIGHT
TZOFFSETFROM:-0800
TZOFFSETTO:-0700
TZNAME:PDT
DTSTART:20260308T100000
END:DAYLIGHT
BEGIN:STANDARD
TZOFFSETFROM:-0700
TZOFFSETTO:-0800
TZNAME:PST
DTSTART:20261101T090000
END:STANDARD
END:VTIMEZONE
BEGIN:VEVENT
DTSTART;TZID=America/Los_Angeles:20250301T143000
DTEND;TZID=America/Los_Angeles:20250301T163000
DTSTAMP:20260423T233001
CREATED:20250225T220029Z
LAST-MODIFIED:20250225T220029Z
UID:10000443-1740839400-1740846600@tmcmusic.org
SUMMARY:Musical Conversations
DESCRIPTION:Musical Conversations is a workshop series designed to enhance musical skills while bringing benefits in everyday life. Certified music therapist Alec Johnson teaches practical techniques to enhance your musicianship skills while helping to cultivate your skills in communication\, confidence\, and mental flow. \nThis workshop explores practical songwriting tools to help you write amazing songs on the spot. No more overthinking or writer’s block! Whether you’re a beginner or seasoned songwriter\, this workshop will give you fresh tools to spark creativity and develop catchy lyrics and melodies. \nRSVP today! Space is limited\, so be sure to secure your spot. \n\n[hubspot type=”form” portal=”23589391″ id=”3bca316e-35f8-4645-9547-ff90e3c93675″]\n\n\n\nParking\nThe Promenade Plaza offers an underground lot accessible from Reed Ave on the north end of the plaza\, or Pacific Beach Drive on the south end. TMC offers 2 hours of free\, validated parking. We are unable to validate for the parking lot in front of our building; street parking is also an option.
URL:https://tmcmusic.org/event/musical-conversations-4/
LOCATION:The Music Company\, 4150 Mission Blvd\, Suite 210\, San Diego\, CA\, 92109\, United States
CATEGORIES:Workshops
ATTACH;FMTTYPE=image/png:https://tmcmusic.org/wp-content/uploads/2025/02/Musical-Converstaions.png
END:VEVENT
BEGIN:VEVENT
DTSTART;TZID=America/Los_Angeles:20250308T143000
DTEND;TZID=America/Los_Angeles:20250308T160000
DTSTAMP:20260423T233001
CREATED:20250304T000959Z
LAST-MODIFIED:20250304T001413Z
UID:10000444-1741444200-1741449600@tmcmusic.org
SUMMARY:How To Be A Band
DESCRIPTION:Join us on Saturday for a free open forum and Q&A with Danny Cozmos of Frontseat Media. Having been a front of house engineer for Music Box\, Queen Bee’s\, and other major venues around town\, Danny will be sharing lessons learned from behind the console of what makes a successful show and a smooth experience at the venue. \nWe’ll discuss other important topics as well\, from getting shows booked\, marketing them and using social media effectively\, to recording your band\, building a brand and managing the assets you create. We’ll open it up for questions as well\, so if you’ve ever wanted to pick your live sound engineer’s brain outside of the pressure of a busy show\, this workshop is for you. \nThis workshop will be at TMC from 2:30 to 4pm on Saturday\, March 8. This is a free event\, but please RSVP so we know how many attendees to expect! \n\n[hubspot type=”form” portal=”23589391″ id=”87648e76-d0e1-43a3-8b20-30a6bb0f711c”]\n\n\n\nParking\nThe Promenade Plaza offers an underground lot accessible from Reed Ave on the north end of the plaza\, or Pacific Beach Drive on the south end. TMC offers 2 hours of free\, validated parking. We are unable to validate for the parking lot in front of our building; street parking is also an option.
URL:https://tmcmusic.org/event/how-to-be-a-band/
LOCATION:The Music Company\, 4150 Mission Blvd\, Suite 210\, San Diego\, CA\, 92109\, United States
CATEGORIES:Workshops
ATTACH;FMTTYPE=image/png:https://tmcmusic.org/wp-content/uploads/2025/03/How-to-Be-a-Band.png
END:VEVENT
END:VCALENDAR