BEGIN:VCALENDAR
VERSION:2.0
PRODID:-//The Music Company - ECPv6.15.20//NONSGML v1.0//EN
CALSCALE:GREGORIAN
METHOD:PUBLISH
X-WR-CALNAME:The Music Company
X-ORIGINAL-URL:https://tmcmusic.org
X-WR-CALDESC:Events for The Music Company
REFRESH-INTERVAL;VALUE=DURATION:PT1H
X-Robots-Tag:noindex
X-PUBLISHED-TTL:PT1H
BEGIN:VTIMEZONE
TZID:America/Los_Angeles
BEGIN:DAYLIGHT
TZOFFSETFROM:-0800
TZOFFSETTO:-0700
TZNAME:PDT
DTSTART:20250309T100000
END:DAYLIGHT
BEGIN:STANDARD
TZOFFSETFROM:-0700
TZOFFSETTO:-0800
TZNAME:PST
DTSTART:20251102T090000
END:STANDARD
BEGIN:DAYLIGHT
TZOFFSETFROM:-0800
TZOFFSETTO:-0700
TZNAME:PDT
DTSTART:20260308T100000
END:DAYLIGHT
BEGIN:STANDARD
TZOFFSETFROM:-0700
TZOFFSETTO:-0800
TZNAME:PST
DTSTART:20261101T090000
END:STANDARD
BEGIN:DAYLIGHT
TZOFFSETFROM:-0800
TZOFFSETTO:-0700
TZNAME:PDT
DTSTART:20270314T100000
END:DAYLIGHT
BEGIN:STANDARD
TZOFFSETFROM:-0700
TZOFFSETTO:-0800
TZNAME:PST
DTSTART:20271107T090000
END:STANDARD
END:VTIMEZONE
BEGIN:VEVENT
DTSTART;TZID=America/Los_Angeles:20260307T140000
DTEND;TZID=America/Los_Angeles:20260307T160000
DTSTAMP:20260423T091058
CREATED:20260205T185458Z
LAST-MODIFIED:20260208T161942Z
UID:10000816-1772892000-1772899200@tmcmusic.org
SUMMARY:Songwriter's Circle
DESCRIPTION:Songwriters’ Circle \nPull up a chair in TMC’s studios and share your music in a welcoming circle of fellow songwriters. Whether you bring a finished piece or just a rough idea\, you’ll receive supportive feedback from both peers and Patricio A. Pickslay — music producer\, songwriter/composer\, educator\, and President of Pacific Records. As a Grammy voter with nearly three decades in the industry and a track record of producing award-winning work for Billboard charts\, films\, and television\, Pat will help you break through creative blocks\, strengthen your songs\, and grow as an artist. \nWhat to Expect: \n\nShare a song (or part of one) with the group\nGet critique & guidance from your songwriting peers and from Pat Pickslay\, whose production and songwriting credits span radio hits\, TV\, and film (patriciopickslay.com)\nDeep dive into fundamentals: lyrics\, melody\, structure\, hook\, arrangement\nExperiment with ideas in a relaxed creative space and push your song further\n\nMore upcoming dates: \n\nSaturday\, April 4\, 2026\nSaturday\, May 2\, 2026\n\nSpace is Limited! Reserve your spot today! \n\n\n\n\n\n\n\nParking\nThe Promenade Plaza offers an underground lot accessible from Reed Ave on the north end of the plaza\, or Pacific Beach Drive on the south end. TMC offers 2 hours of free\, validated parking. We are unable to validate for the parking lot in front of our building; street parking is also an option.
URL:https://tmcmusic.org/event/songwriters-circle-3/
LOCATION:The Music Company\, 4150 Mission Blvd\, Suite 210\, San Diego\, CA\, 92109\, United States
CATEGORIES:Workshops
ATTACH;FMTTYPE=image/png:https://tmcmusic.org/wp-content/uploads/2026/02/Songwriters-Circle-Poster-scaled.png
END:VEVENT
END:VCALENDAR