BEGIN:VCALENDAR
VERSION:2.0
PRODID:-//The Music Company - ECPv6.15.20//NONSGML v1.0//EN
CALSCALE:GREGORIAN
METHOD:PUBLISH
X-ORIGINAL-URL:https://tmcmusic.org
X-WR-CALDESC:Events for The Music Company
REFRESH-INTERVAL;VALUE=DURATION:PT1H
X-Robots-Tag:noindex
X-PUBLISHED-TTL:PT1H
BEGIN:VTIMEZONE
TZID:America/Los_Angeles
BEGIN:DAYLIGHT
TZOFFSETFROM:-0800
TZOFFSETTO:-0700
TZNAME:PDT
DTSTART:20230312T100000
END:DAYLIGHT
BEGIN:STANDARD
TZOFFSETFROM:-0700
TZOFFSETTO:-0800
TZNAME:PST
DTSTART:20231105T090000
END:STANDARD
BEGIN:DAYLIGHT
TZOFFSETFROM:-0800
TZOFFSETTO:-0700
TZNAME:PDT
DTSTART:20240310T100000
END:DAYLIGHT
BEGIN:STANDARD
TZOFFSETFROM:-0700
TZOFFSETTO:-0800
TZNAME:PST
DTSTART:20241103T090000
END:STANDARD
BEGIN:DAYLIGHT
TZOFFSETFROM:-0800
TZOFFSETTO:-0700
TZNAME:PDT
DTSTART:20250309T100000
END:DAYLIGHT
BEGIN:STANDARD
TZOFFSETFROM:-0700
TZOFFSETTO:-0800
TZNAME:PST
DTSTART:20251102T090000
END:STANDARD
END:VTIMEZONE
BEGIN:VEVENT
DTSTART;TZID=America/Los_Angeles:20240328T190000
DTEND;TZID=America/Los_Angeles:20240328T220000
DTSTAMP:20260424T142801
CREATED:20240303T235346Z
LAST-MODIFIED:20240318T134507Z
UID:10000022-1711652400-1711663200@tmcmusic.org
SUMMARY:Women's Night
DESCRIPTION:Welcome to Women’s Night: a safe space for women to gather\, converse\, and create. \nWe’ll start the night by discussing our unique experiences in the music industry\, and share ways to navigate the challenges and successes that come our way. This exchange of wisdom and strategy sharing is pivotal to finding our rhythm in this field of work. We’ll then open up into a creative jam session where we can try new things and just have fun! \n\n[contact-form-7 id=”e5de87e” title=”RSVP”]
URL:https://tmcmusic.org/event/womens-night/
LOCATION:The Music Company\, 4150 Mission Blvd\, Suite 210\, San Diego\, CA\, 92109\, United States
CATEGORIES:Jam Sessions,Women's Night
END:VEVENT
BEGIN:VEVENT
DTSTART;TZID=America/Los_Angeles:20240330T190000
DTEND;TZID=America/Los_Angeles:20240330T230000
DTSTAMP:20260424T142801
CREATED:20240324T001135Z
LAST-MODIFIED:20240330T212827Z
UID:10000153-1711825200-1711839600@tmcmusic.org
SUMMARY:1 Year Anniversary + SDMA Artist Spotlight
DESCRIPTION:Welcome to TMC’s 1 Year Anniversary Celebration!\nJoin us at The Music Company for a fun-filled celebration\, showcasing SDMA nominees. Come meet industry professionals\, network with fellow music enthusiasts\, and enjoy live performances by these San Diego Music Awards Nominees: \n\nRiston Diggs – Nominated for Best Hip/Hop or Rap Song\nChauncey Maynor – Nominated for Best R&B\, Funk\, or Soul Album\nThe Gravities – Nominated for Best Local recording for their Beach Break Session with TMC!\n\n\n[hubspot type=”form” portal=”23589391″ id=”40609986-2f1e-44b5-931c-71aa27e4e784″]\n\n\n\nParking  The Promenade Plaza offers an underground lot accessible from Reed Ave on the south end of the plaza\, or Pacific Beach Drive on the north end. TMC offers 2 hours of free\, validated parking. We are unable to validate for the parking lot in front of our building; street parking is also an option.
URL:https://tmcmusic.org/event/1-year-anniversary-sdma-artist-spotlight/
LOCATION:The Music Company\, 4150 Mission Blvd\, Suite 210\, San Diego\, CA\, 92109\, United States
CATEGORIES:Special Events
ATTACH;FMTTYPE=image/jpeg:https://tmcmusic.org/wp-content/uploads/2024/03/gravities-feature.jpg
END:VEVENT
END:VCALENDAR