BEGIN:VCALENDAR
VERSION:2.0
PRODID:-//The Music Company - ECPv6.15.20//NONSGML v1.0//EN
CALSCALE:GREGORIAN
METHOD:PUBLISH
X-ORIGINAL-URL:https://tmcmusic.org
X-WR-CALDESC:Events for The Music Company
REFRESH-INTERVAL;VALUE=DURATION:PT1H
X-Robots-Tag:noindex
X-PUBLISHED-TTL:PT1H
BEGIN:VTIMEZONE
TZID:America/Los_Angeles
BEGIN:DAYLIGHT
TZOFFSETFROM:-0800
TZOFFSETTO:-0700
TZNAME:PDT
DTSTART:20230312T100000
END:DAYLIGHT
BEGIN:STANDARD
TZOFFSETFROM:-0700
TZOFFSETTO:-0800
TZNAME:PST
DTSTART:20231105T090000
END:STANDARD
BEGIN:DAYLIGHT
TZOFFSETFROM:-0800
TZOFFSETTO:-0700
TZNAME:PDT
DTSTART:20240310T100000
END:DAYLIGHT
BEGIN:STANDARD
TZOFFSETFROM:-0700
TZOFFSETTO:-0800
TZNAME:PST
DTSTART:20241103T090000
END:STANDARD
BEGIN:DAYLIGHT
TZOFFSETFROM:-0800
TZOFFSETTO:-0700
TZNAME:PDT
DTSTART:20250309T100000
END:DAYLIGHT
BEGIN:STANDARD
TZOFFSETFROM:-0700
TZOFFSETTO:-0800
TZNAME:PST
DTSTART:20251102T090000
END:STANDARD
END:VTIMEZONE
BEGIN:VEVENT
DTSTART;TZID=America/Los_Angeles:20241102T140000
DTEND;TZID=America/Los_Angeles:20241102T160000
DTSTAMP:20260424T041812
CREATED:20241031T124330Z
LAST-MODIFIED:20241031T124330Z
UID:10000393-1730556000-1730563200@tmcmusic.org
SUMMARY:Musical Conversations
DESCRIPTION:Alec Johnson\, certified music therapist\, will show us some tips and techniques to enrich your ability to jam with others\, no matter what you play. A Berklee graduate\, Alec models his approach after the one popularized by Victor Wooten while adding context from neuroscience\, improv and music therapy. The skills shared here apply not just to music but to everyday life.  \nRSVP today! Space is limited\, so be sure to secure your spot. \n\n[hubspot type=”form” portal=”23589391″ id=”61d2d3c3-1a30-411f-8e71-c1cedfb79038″]\n\n\n\nParking\nThe Promenade Plaza offers an underground lot accessible from Reed Ave on the north end of the plaza\, or Pacific Beach Drive on the south end. TMC offers 2 hours of free\, validated parking. We are unable to validate for the parking lot in front of our building; street parking is also an option.
URL:https://tmcmusic.org/event/musical-conversations/
LOCATION:The Music Company\, 4150 Mission Blvd\, Suite 210\, San Diego\, CA\, 92109\, United States
CATEGORIES:Workshops
ATTACH;FMTTYPE=image/jpeg:https://tmcmusic.org/wp-content/uploads/2024/10/musical-conversations-web.jpg
END:VEVENT
BEGIN:VEVENT
DTSTART;TZID=America/Los_Angeles:20241107T190000
DTEND;TZID=America/Los_Angeles:20241107T220000
DTSTAMP:20260424T041812
CREATED:20241018T172133Z
LAST-MODIFIED:20241018T172344Z
UID:10000398-1731006000-1731016800@tmcmusic.org
SUMMARY:Women's Night
DESCRIPTION:Welcome to Women’s Night: a safe space for women to gather\, converse\, and create. \nWe’ll start the night by discussing our unique experiences in the music industry\, and share ways to navigate the challenges and successes that come our way. This exchange of wisdom and strategy sharing is pivotal to finding our rhythm in this field of work. We’ll then open up into a creative jam session where we can try new things and just have fun! \n\n[hubspot type=”form” portal=”23589391″ id=”c89f9ac5-f15c-4dd0-9f20-b93792d267c9″]\n\n\n\nParking\nThe Promenade Plaza offers an underground lot accessible from Reed Ave on the north end of the plaza\, or Pacific Beach Drive on the south end. TMC offers 2 hours of free\, validated parking. We are unable to validate for the parking lot in front of our building; street parking is also an option.
URL:https://tmcmusic.org/event/womens-night-2-2-2-2-3/2024-11-07/
LOCATION:The Music Company\, 4150 Mission Blvd\, Suite 210\, San Diego\, CA\, 92109\, United States
CATEGORIES:Jam Sessions,Women's Night
ATTACH;FMTTYPE=image/jpeg:https://tmcmusic.org/wp-content/uploads/2019/06/womens-night-generic.jpg
END:VEVENT
BEGIN:VEVENT
DTSTART;TZID=America/Los_Angeles:20241107T190000
DTEND;TZID=America/Los_Angeles:20241107T220000
DTSTAMP:20260424T041812
CREATED:20241105T223332Z
LAST-MODIFIED:20241105T224519Z
UID:10000322-1731006000-1731016800@tmcmusic.org
SUMMARY:Women's Night *** Postponed ***
DESCRIPTION:*** This event is POSTPONED ***\nWe look forward to seeing you at the next Women’s Night Event on November 21st! \nWelcome to Women’s Night: a safe space for women to gather\, converse\, and create. \nWe’ll start the night by discussing our unique experiences in the music industry\, and share ways to navigate the challenges and successes that come our way. This exchange of wisdom and strategy sharing is pivotal to finding our rhythm in this field of work. We’ll then open up into a creative jam session where we can try new things and just have fun! \n\nRegister for the next Women’s Night here!\n\n\n\nParking\nThe Promenade Plaza offers an underground lot accessible from Reed Ave on the north end of the plaza\, or Pacific Beach Drive on the south end. TMC offers 2 hours of free\, validated parking. We are unable to validate for the parking lot in front of our building; street parking is also an option.
URL:https://tmcmusic.org/event/womens-night-4/
LOCATION:The Music Company\, 4150 Mission Blvd\, Suite 210\, San Diego\, CA\, 92109\, United States
CATEGORIES:Jam Sessions,Women's Night
ATTACH;FMTTYPE=image/jpeg:https://tmcmusic.org/wp-content/uploads/2019/06/womens-night-generic.jpg
END:VEVENT
BEGIN:VEVENT
DTSTART;TZID=America/Los_Angeles:20241120T190000
DTEND;TZID=America/Los_Angeles:20241120T210000
DTSTAMP:20260424T041812
CREATED:20241023T031201Z
LAST-MODIFIED:20241109T183238Z
UID:10000338-1732129200-1732136400@tmcmusic.org
SUMMARY:Volunteer Open House
DESCRIPTION:Are you passionate about music? Do you want to make a difference in San Diego’s local music scene? The Music Company invites you to our Volunteer Open House\, where you’ll get an exclusive\, behind-the-scenes look at how we’re empowering local musicians and creatives. Whether you’re a long-time fan of the arts or new to the music community\, there’s a role for everyone. Learn how you can lend your time and talents to help make a lasting impact. \nAt this event you’ll: \n\nMeet our team and current volunteers\nDiscover volunteer opportunities in events\, outreach\, studio support\, and more\nGet a tour of our recording studios and music spaces\nLearn about the vital work TMC does to support local artists\nEnjoy light refreshments and network with other music enthusiasts\n\nHelp San Diego’s music community thrive – your involvement can make all the difference! \nRSVP today! Space is limited\, so be sure to secure your spot. \n\n[hubspot type=”form” portal=”23589391″ id=”a99fc6c9-41f4-4739-a506-94deb29250f5″]\n\n\n\nParking\nThe Promenade Plaza offers an underground lot accessible from Reed Ave on the north end of the plaza\, or Pacific Beach Drive on the south end. TMC offers 2 hours of free\, validated parking. We are unable to validate for the parking lot in front of our building; street parking is also an option.
URL:https://tmcmusic.org/event/volunteer-open-house/
LOCATION:CA
CATEGORIES:Special Events
ATTACH;FMTTYPE=image/jpeg:https://tmcmusic.org/wp-content/uploads/2024/10/volunteer-night-11-20-web.jpg
END:VEVENT
BEGIN:VEVENT
DTSTART;TZID=America/Los_Angeles:20241121T190000
DTEND;TZID=America/Los_Angeles:20241121T220000
DTSTAMP:20260424T041812
CREATED:20241018T172133Z
LAST-MODIFIED:20241018T172344Z
UID:10000323-1732215600-1732226400@tmcmusic.org
SUMMARY:Women's Night
DESCRIPTION:Welcome to Women’s Night: a safe space for women to gather\, converse\, and create. \nWe’ll start the night by discussing our unique experiences in the music industry\, and share ways to navigate the challenges and successes that come our way. This exchange of wisdom and strategy sharing is pivotal to finding our rhythm in this field of work. We’ll then open up into a creative jam session where we can try new things and just have fun! \n\n[hubspot type=”form” portal=”23589391″ id=”c89f9ac5-f15c-4dd0-9f20-b93792d267c9″]\n\n\n\nParking\nThe Promenade Plaza offers an underground lot accessible from Reed Ave on the north end of the plaza\, or Pacific Beach Drive on the south end. TMC offers 2 hours of free\, validated parking. We are unable to validate for the parking lot in front of our building; street parking is also an option.
URL:https://tmcmusic.org/event/womens-night-2-2-2-2-3/2024-11-21/
LOCATION:The Music Company\, 4150 Mission Blvd\, Suite 210\, San Diego\, CA\, 92109\, United States
CATEGORIES:Jam Sessions,Women's Night
ATTACH;FMTTYPE=image/jpeg:https://tmcmusic.org/wp-content/uploads/2019/06/womens-night-generic.jpg
END:VEVENT
BEGIN:VEVENT
DTSTART;TZID=America/Los_Angeles:20241123T140000
DTEND;TZID=America/Los_Angeles:20241123T160000
DTSTAMP:20260424T041812
CREATED:20241109T000544Z
LAST-MODIFIED:20241113T050407Z
UID:10000395-1732370400-1732377600@tmcmusic.org
SUMMARY:Building your Brand
DESCRIPTION:Join us on Saturday\, November 23rd for an insightful workshop from Robb Teneo\, COO of California Distribution\, and an artist in his own right. We’ll be discussing topics such as creating and building a brand\, organizing your growing fan base\, securing the royalties you’ve earned\, and knowing when and what your “next steps” as an artist should be. \nThis workshop is aimed towards local musicians who would like to grow their fan base and establish their careers in music. We’ll have space for open discussion and networking as well as a presentation from Robb based on his experiences as both an artist and an industry executive. \nWe’ll specifically dive into: \n\nRegistering and distributing your music the most effective way for yourself\nCollecting and managing data from a growing fan base\nBuilding your brand with original\, authentic content and smart social media strategy\nKnowing and leveraging your worth when you look for “next steps” – label deals\, investors\, and/or managers\n\nSee you on the 23rd! \n\n[hubspot type=”form” portal=”23589391″ id=”48efec32-ba38-4ae1-80a4-e9ea109c7a5b”]\n\n\n\nParking\nThe Promenade Plaza offers an underground lot accessible from Reed Ave on the north end of the plaza\, or Pacific Beach Drive on the south end. TMC offers 2 hours of free\, validated parking. We are unable to validate for the parking lot in front of our building; street parking is also an option.
URL:https://tmcmusic.org/event/building-your-brand/
LOCATION:The Music Company\, 4150 Mission Blvd\, Suite 210\, San Diego\, CA\, 92109\, United States
CATEGORIES:Workshops
ATTACH;FMTTYPE=image/webp:https://tmcmusic.org/wp-content/uploads/2024/11/Rob-buidling-brand-web-2.webp
END:VEVENT
BEGIN:VEVENT
DTSTART;TZID=America/Los_Angeles:20241128T120000
DTEND;TZID=America/Los_Angeles:20241128T220000
DTSTAMP:20260424T041812
CREATED:20241124T171959Z
LAST-MODIFIED:20241124T173146Z
UID:10000040-1732795200-1732831200@tmcmusic.org
SUMMARY:Studio Closed for Thanksgiving Holiday
DESCRIPTION:We would like to express our thanks and gratitude to everyone who has supported TMC and the San Diego music scene in 2024.
URL:https://tmcmusic.org/event/thursday-jam-sessions-12/
LOCATION:The Music Company\, 4150 Mission Blvd\, Suite 210\, San Diego\, CA\, 92109\, United States
CATEGORIES:Jam Sessions,Special Events,Women's Night,Workshops
END:VEVENT
BEGIN:VEVENT
DTSTART;TZID=America/Los_Angeles:20241130T143000
DTEND;TZID=America/Los_Angeles:20241130T163000
DTSTAMP:20260424T041812
CREATED:20241116T230624Z
LAST-MODIFIED:20241130T192611Z
UID:10000396-1732977000-1732984200@tmcmusic.org
SUMMARY:Musical Conversations
DESCRIPTION:Alec Johnson\, certified music therapist\, will show us some tips and techniques to enrich your ability to jam with others\, no matter what you play. A Berklee graduate\, Alec models his approach after the one popularized by Victor Wooten while adding context from neuroscience\, improv and music therapy. The skills shared here apply not just to music but to everyday life.  \nRSVP today! Space is limited\, so be sure to secure your spot. \n\n[hubspot type=”form” portal=”23589391″ id=”61d2d3c3-1a30-411f-8e71-c1cedfb79038″]\n\n\n\nParking\nThe Promenade Plaza offers an underground lot accessible from Reed Ave on the north end of the plaza\, or Pacific Beach Drive on the south end. TMC offers 2 hours of free\, validated parking. We are unable to validate for the parking lot in front of our building; street parking is also an option.
URL:https://tmcmusic.org/event/musical-conversations-2/
LOCATION:The Music Company\, 4150 Mission Blvd\, Suite 210\, San Diego\, CA\, 92109\, United States
CATEGORIES:Workshops
ATTACH;FMTTYPE=image/webp:https://tmcmusic.org/wp-content/uploads/2024/11/musical-conversations-web-2.webp
END:VEVENT
END:VCALENDAR