BEGIN:VCALENDAR
VERSION:2.0
PRODID:-//The Music Company - ECPv6.15.20//NONSGML v1.0//EN
CALSCALE:GREGORIAN
METHOD:PUBLISH
X-WR-CALNAME:The Music Company
X-ORIGINAL-URL:https://tmcmusic.org
X-WR-CALDESC:Events for The Music Company
REFRESH-INTERVAL;VALUE=DURATION:PT1H
X-Robots-Tag:noindex
X-PUBLISHED-TTL:PT1H
BEGIN:VTIMEZONE
TZID:America/Los_Angeles
BEGIN:DAYLIGHT
TZOFFSETFROM:-0800
TZOFFSETTO:-0700
TZNAME:PDT
DTSTART:20240310T100000
END:DAYLIGHT
BEGIN:STANDARD
TZOFFSETFROM:-0700
TZOFFSETTO:-0800
TZNAME:PST
DTSTART:20241103T090000
END:STANDARD
BEGIN:DAYLIGHT
TZOFFSETFROM:-0800
TZOFFSETTO:-0700
TZNAME:PDT
DTSTART:20250309T100000
END:DAYLIGHT
BEGIN:STANDARD
TZOFFSETFROM:-0700
TZOFFSETTO:-0800
TZNAME:PST
DTSTART:20251102T090000
END:STANDARD
BEGIN:DAYLIGHT
TZOFFSETFROM:-0800
TZOFFSETTO:-0700
TZNAME:PDT
DTSTART:20260308T100000
END:DAYLIGHT
BEGIN:STANDARD
TZOFFSETFROM:-0700
TZOFFSETTO:-0800
TZNAME:PST
DTSTART:20261101T090000
END:STANDARD
END:VTIMEZONE
BEGIN:VEVENT
DTSTART;TZID=America/Los_Angeles:20250504T120000
DTEND;TZID=America/Los_Angeles:20250504T170000
DTSTAMP:20260423T205545
CREATED:20250411T043515Z
LAST-MODIFIED:20250504T030653Z
UID:10000445-1746360000-1746378000@tmcmusic.org
SUMMARY:EPK Night *** Postponed ***
DESCRIPTION:EPK has been postponed to a new date. Keep an eye out. Details coming soon.\n———\nCalling all independent artists! Ready to take your music career to the next level? We’re bringing you a unique\, hands-on opportunity to build a professional Electronic Press Kit (EPK)—all in one day. \nAt this all-day event\, you’ll rotate through five immersive stations\, each designed to equip you with the essential elements of a standout EPK: \n\nPhotography (By Maddy Sevilla) – Capture high-quality headshots and promotional images\nVideography (By Vanessa Silva and Terrance “Terry” Smith) – Film a professional live performance video\, with audio professionally mixed by TMC\nGraphic Design (By Alex Rivera) – Work with creatives on your logo and branding assets\nWeb Design (By Tess Freedel of Evergreen UX) – Build a portfolio-ready artist site or landing page\nBusiness & Marketing Workshop (By Ayme Haydel of Red Thread Society) – Learn how to use your EPK to get booked\, pitch to media\, and financially plan for your brand.\n\nWhether you’re just starting out or looking to level up\, this is your chance to create the tools that open doors to bigger opportunities. \nSpots are limited\, so secure your ticket now and walk away with a complete\, press-ready EPK. \nDate and Time: 5/4/2025 12:00PM – 5:00PM\nPrice: $500 per Act\nLimit: 10 Acts \nEPK Production Night – Presented by Red Thread Society & DharmaDen in partnership with The Music Company (TMC) \n\n\n      \n        \n      \n    \n\n\n\nParking\nThe Promenade Plaza offers an underground lot accessible from Reed Ave on the north end of the plaza\, or Pacific Beach Drive on the south end. TMC offers 2 hours of free\, validated parking. We are unable to validate for the parking lot in front of our building; street parking is also an option.
URL:https://tmcmusic.org/event/epk-night/
LOCATION:The Music Company\, 4150 Mission Blvd\, Suite 210\, San Diego\, CA\, 92109\, United States
CATEGORIES:Workshops
ATTACH;FMTTYPE=image/jpeg:https://tmcmusic.org/wp-content/uploads/2019/06/EPK-Web.jpg
END:VEVENT
BEGIN:VEVENT
DTSTART;TZID=America/Los_Angeles:20250508T190000
DTEND;TZID=America/Los_Angeles:20250508T220000
DTSTAMP:20260423T205545
CREATED:20241106T155908Z
LAST-MODIFIED:20250111T042147Z
UID:10000421-1746730800-1746741600@tmcmusic.org
SUMMARY:Women's Night
DESCRIPTION:Welcome to Women’s Night: a safe space for women to gather\, converse\, and create. \nWe’ll start the night by discussing our unique experiences in the music industry\, and share ways to navigate the challenges and successes that come our way. This exchange of wisdom and strategy sharing is pivotal to finding our rhythm in this field of work. We’ll then open up into a creative jam session where we can try new things and just have fun! \n\n[hubspot type=”form” portal=”23589391″ id=”c89f9ac5-f15c-4dd0-9f20-b93792d267c9″]\n\n\n\nParking\nThe Promenade Plaza offers an underground lot accessible from Reed Ave on the north end of the plaza\, or Pacific Beach Drive on the south end. TMC offers 2 hours of free\, validated parking. We are unable to validate for the parking lot in front of our building; street parking is also an option.
URL:https://tmcmusic.org/event/womens-night-5/2025-05-08/
LOCATION:The Music Company\, 4150 Mission Blvd\, Suite 210\, San Diego\, CA\, 92109\, United States
CATEGORIES:Women's Night
ATTACH;FMTTYPE=image/webp:https://tmcmusic.org/wp-content/uploads/2024/10/womens-night-generic-2-web.webp
END:VEVENT
BEGIN:VEVENT
DTSTART;TZID=America/Los_Angeles:20250510T143000
DTEND;TZID=America/Los_Angeles:20250510T163000
DTSTAMP:20260423T205545
CREATED:20250505T004107Z
LAST-MODIFIED:20250505T004256Z
UID:10000447-1746887400-1746894600@tmcmusic.org
SUMMARY:Songwriting Workshop
DESCRIPTION:Create\, Learn & Have Fun with other Songwriters!\nFeaturing:\n“OK Radiohead: An examination of the songs from the band’s seminal album” \nThe workshop will be led by Pat Pickslay\, President of Pacific Records\, Inc. \n\n[hubspot type=”form” portal=”23589391″ id=”e42ff340-f244-4b50-8a5d-3f89956095d0″]\n\n\n\nParking\nThe Promenade Plaza offers an underground lot accessible from Reed Ave on the north end of the plaza\, or Pacific Beach Drive on the south end. TMC offers 2 hours of free\, validated parking. We are unable to validate for the parking lot in front of our building; street parking is also an option.
URL:https://tmcmusic.org/event/songwriting-workshop-6/
LOCATION:CA
CATEGORIES:Workshops
ATTACH;FMTTYPE=image/webp:https://tmcmusic.org/wp-content/uploads/2019/06/OK-Radiohead.webp
END:VEVENT
BEGIN:VEVENT
DTSTART;TZID=America/Los_Angeles:20250522T190000
DTEND;TZID=America/Los_Angeles:20250522T210000
DTSTAMP:20260423T205545
CREATED:20250118T171537Z
LAST-MODIFIED:20250119T151819Z
UID:10000432-1747940400-1747947600@tmcmusic.org
SUMMARY:Musicians Club Jam Session
DESCRIPTION:Come join the San Diego Musician’s Club for their monthly Jam Session\, hosted at TMC from 7-9 pm. To learn more and RSVP to attend\, please visit the Musician’s Club website . \nTMC has acoustic and electric guitars\, bass guitars\, a drum kit\, keyboards\, a piano\, congas\, a host of handheld percussion instruments\, and backline gear (amplifiers\, microphones\, etc.) to work with – or feel free to bring your own! \n 
URL:https://tmcmusic.org/event/musicians-club-jam-session/2025-05-22/
LOCATION:The Music Company\, 4150 Mission Blvd\, Suite 210\, San Diego\, CA\, 92109\, United States
CATEGORIES:Musician's Club Jam Session
ORGANIZER;CN="San Diego Musician's Club":MAILTO:musiciansclub.sandiego@gmail.com
END:VEVENT
END:VCALENDAR