BEGIN:VCALENDAR
VERSION:2.0
PRODID:-//The Music Company - ECPv6.15.20//NONSGML v1.0//EN
CALSCALE:GREGORIAN
METHOD:PUBLISH
X-WR-CALNAME:The Music Company
X-ORIGINAL-URL:https://tmcmusic.org
X-WR-CALDESC:Events for The Music Company
REFRESH-INTERVAL;VALUE=DURATION:PT1H
X-Robots-Tag:noindex
X-PUBLISHED-TTL:PT1H
BEGIN:VTIMEZONE
TZID:America/Los_Angeles
BEGIN:DAYLIGHT
TZOFFSETFROM:-0800
TZOFFSETTO:-0700
TZNAME:PDT
DTSTART:20250309T100000
END:DAYLIGHT
BEGIN:STANDARD
TZOFFSETFROM:-0700
TZOFFSETTO:-0800
TZNAME:PST
DTSTART:20251102T090000
END:STANDARD
BEGIN:DAYLIGHT
TZOFFSETFROM:-0800
TZOFFSETTO:-0700
TZNAME:PDT
DTSTART:20260308T100000
END:DAYLIGHT
BEGIN:STANDARD
TZOFFSETFROM:-0700
TZOFFSETTO:-0800
TZNAME:PST
DTSTART:20261101T090000
END:STANDARD
BEGIN:DAYLIGHT
TZOFFSETFROM:-0800
TZOFFSETTO:-0700
TZNAME:PDT
DTSTART:20270314T100000
END:DAYLIGHT
BEGIN:STANDARD
TZOFFSETFROM:-0700
TZOFFSETTO:-0800
TZNAME:PST
DTSTART:20271107T090000
END:STANDARD
END:VTIMEZONE
BEGIN:VEVENT
DTSTART;TZID=America/Los_Angeles:20260219T190000
DTEND;TZID=America/Los_Angeles:20260219T220000
DTSTAMP:20260423T100913
CREATED:20260205T221753Z
LAST-MODIFIED:20260208T001427Z
UID:10000821-1771527600-1771538400@tmcmusic.org
SUMMARY:Women's Night
DESCRIPTION:Welcome to Women’s Night: a safe space for women to gather\, converse\, and create. \nWe’ll start the night by discussing our unique experiences in the music industry\, and share ways to navigate the challenges and successes that come our way. This exchange of wisdom and strategy sharing is pivotal to finding our rhythm in this field of work. We’ll then open up into a creative jam session where we can try new things and just have fun! \n\n\n\n\n\n\n\nParking\nThe Promenade Plaza offers an underground lot accessible from Reed Ave on the north end of the plaza\, or Pacific Beach Drive on the south end. TMC offers 2 hours of free\, validated parking. We are unable to validate for the parking lot in front of our building; street parking is also an option.
URL:https://tmcmusic.org/event/womens-night-6/
LOCATION:The Music Company\, 4150 Mission Blvd\, Suite 210\, San Diego\, CA\, 92109\, United States
CATEGORIES:Women's Night
ATTACH;FMTTYPE=image/png:https://tmcmusic.org/wp-content/uploads/2026/02/WOMENS-NIGHT-POSTER.png
END:VEVENT
END:VCALENDAR