BEGIN:VCALENDAR
VERSION:2.0
PRODID:-//The Music Company - ECPv6.15.20//NONSGML v1.0//EN
CALSCALE:GREGORIAN
METHOD:PUBLISH
X-ORIGINAL-URL:https://tmcmusic.org
X-WR-CALDESC:Events for The Music Company
REFRESH-INTERVAL;VALUE=DURATION:PT1H
X-Robots-Tag:noindex
X-PUBLISHED-TTL:PT1H
BEGIN:VTIMEZONE
TZID:America/Los_Angeles
BEGIN:DAYLIGHT
TZOFFSETFROM:-0800
TZOFFSETTO:-0700
TZNAME:PDT
DTSTART:20250309T100000
END:DAYLIGHT
BEGIN:STANDARD
TZOFFSETFROM:-0700
TZOFFSETTO:-0800
TZNAME:PST
DTSTART:20251102T090000
END:STANDARD
BEGIN:DAYLIGHT
TZOFFSETFROM:-0800
TZOFFSETTO:-0700
TZNAME:PDT
DTSTART:20260308T100000
END:DAYLIGHT
BEGIN:STANDARD
TZOFFSETFROM:-0700
TZOFFSETTO:-0800
TZNAME:PST
DTSTART:20261101T090000
END:STANDARD
BEGIN:DAYLIGHT
TZOFFSETFROM:-0800
TZOFFSETTO:-0700
TZNAME:PDT
DTSTART:20270314T100000
END:DAYLIGHT
BEGIN:STANDARD
TZOFFSETFROM:-0700
TZOFFSETTO:-0800
TZNAME:PST
DTSTART:20271107T090000
END:STANDARD
END:VTIMEZONE
BEGIN:VEVENT
DTSTART;TZID=America/Los_Angeles:20260502T140000
DTEND;TZID=America/Los_Angeles:20260502T160000
DTSTAMP:20260423T085318
CREATED:20260205T190347Z
LAST-MODIFIED:20260403T175542Z
UID:10000820-1777730400-1777737600@tmcmusic.org
SUMMARY:Songwriter's Circle
DESCRIPTION:Songwriters’ Circle \nPull up a chair in TMC’s studios and share your music in a welcoming circle of fellow songwriters. Whether you bring a finished piece or just a rough idea\, you’ll receive supportive feedback from both peers and Patricio A. Pickslay — music producer\, songwriter/composer\, educator\, and President of Pacific Records. As a Grammy voter with nearly three decades in the industry and a track record of producing award-winning work for Billboard charts\, films\, and television\, Pat will help you break through creative blocks\, strengthen your songs\, and grow as an artist. \nWhat to Expect: \n\nShare a song (or part of one) with the group\nGet critique & guidance from your songwriting peers and from Pat Pickslay\, whose production and songwriting credits span radio hits\, TV\, and film (patriciopickslay.com)\nDeep dive into fundamentals: lyrics\, melody\, structure\, hook\, arrangement\nExperiment with ideas in a relaxed creative space and push your song further\n\nSpace is Limited! Reserve your spot today! \n\n\n\n\n\n\n\nParking\nThe Promenade Plaza offers an underground lot accessible from Reed Ave on the north end of the plaza\, or Pacific Beach Drive on the south end. TMC offers 2 hours of free\, validated parking. We are unable to validate for the parking lot in front of our building; street parking is also an option.
URL:https://tmcmusic.org/event/songwriters-circle-5/
LOCATION:The Music Company\, 4150 Mission Blvd\, Suite 210\, San Diego\, CA\, 92109\, United States
CATEGORIES:Workshops
ATTACH;FMTTYPE=image/png:https://tmcmusic.org/wp-content/uploads/2026/02/Songwriters-Circle-Poster-scaled.png
END:VEVENT
BEGIN:VEVENT
DTSTART;TZID=America/Los_Angeles:20260507T193000
DTEND;TZID=America/Los_Angeles:20260507T213000
DTSTAMP:20260423T085318
CREATED:20260122T134606Z
LAST-MODIFIED:20260122T134607Z
UID:10000690-1778182200-1778189400@tmcmusic.org
SUMMARY:Musicians Club Jam Session
DESCRIPTION:Come join the San Diego Musician’s Club for their monthly Jam Session\, hosted at TMC from 7-9 pm. To learn more and RSVP to attend\, please visit the Musician’s Club website . \nTMC has acoustic and electric guitars\, bass guitars\, a drum kit\, keyboards\, a piano\, congas\, a host of handheld percussion instruments\, and backline gear (amplifiers\, microphones\, etc.) to work with – or feel free to bring your own! \n 
URL:https://tmcmusic.org/event/musicians-club-jam-session-2-2/2026-05-07/
LOCATION:The Music Company\, 4150 Mission Blvd\, Suite 210\, San Diego\, CA\, 92109\, United States
CATEGORIES:Musician's Club Jam Session
ORGANIZER;CN="San Diego Musician's Club":MAILTO:musiciansclub.sandiego@gmail.com
END:VEVENT
BEGIN:VEVENT
DTSTART;TZID=America/Los_Angeles:20260528T190000
DTEND;TZID=America/Los_Angeles:20260528T220000
DTSTAMP:20260423T085318
CREATED:20260407T175701Z
LAST-MODIFIED:20260407T175701Z
UID:10000952-1779994800-1780005600@tmcmusic.org
SUMMARY:Women In Music Night
DESCRIPTION:Welcome to the TMC and Grrrl Music Women In Music Night. TMC and Grrrl Music are partnering to create this one of a kind monthly gathering for women in San Diego’s music community\, including artists\, producers\, DJs\, songwriters\, promoters\, listeners\, and more. \nIf you are working in music\, or even just interested in music\, this new event series is for you. We’ll start the night by discussing our unique experiences in the music industry\, and share ways to navigate the challenges and successes that come our way. This exchange of wisdom and strategy sharing is pivotal to finding our rhythm in this field of work. As TMC is a recording studio\, guitars\, amps\, drums and other instruments are available so there is also always the opportunity to break into a creative jam session and just have fun! \nPlease RSVP for this event as space is limited! \n\n\n\n\n\n\n\nParking\nThe Promenade Plaza offers an underground lot accessible from Reed Ave on the north end of the plaza\, or Pacific Beach Drive on the south end. TMC offers 2 hours of free\, validated parking. We are unable to validate for the parking lot in front of our building; street parking is also an option.
URL:https://tmcmusic.org/event/women-in-music-night-2/
LOCATION:The Music Company\, 4150 Mission Blvd\, Suite 210\, San Diego\, CA\, 92109\, United States
CATEGORIES:Women In Music Night
END:VEVENT
END:VCALENDAR